BEGIN:VCALENDAR
VERSION:2.0
PRODID:-//La Volte Gaillarde - ECPv6.15.20//NONSGML v1.0//EN
CALSCALE:GREGORIAN
METHOD:PUBLISH
X-ORIGINAL-URL:https://lavoltegaillarde.fr
X-WR-CALDESC:Évènements pour La Volte Gaillarde
REFRESH-INTERVAL;VALUE=DURATION:PT1H
X-Robots-Tag:noindex
X-PUBLISHED-TTL:PT1H
BEGIN:VTIMEZONE
TZID:Europe/Paris
BEGIN:DAYLIGHT
TZOFFSETFROM:+0100
TZOFFSETTO:+0200
TZNAME:CEST
DTSTART:20220327T010000
END:DAYLIGHT
BEGIN:STANDARD
TZOFFSETFROM:+0200
TZOFFSETTO:+0100
TZNAME:CET
DTSTART:20221030T010000
END:STANDARD
BEGIN:DAYLIGHT
TZOFFSETFROM:+0100
TZOFFSETTO:+0200
TZNAME:CEST
DTSTART:20230326T010000
END:DAYLIGHT
BEGIN:STANDARD
TZOFFSETFROM:+0200
TZOFFSETTO:+0100
TZNAME:CET
DTSTART:20231029T010000
END:STANDARD
BEGIN:DAYLIGHT
TZOFFSETFROM:+0100
TZOFFSETTO:+0200
TZNAME:CEST
DTSTART:20240331T010000
END:DAYLIGHT
BEGIN:STANDARD
TZOFFSETFROM:+0200
TZOFFSETTO:+0100
TZNAME:CET
DTSTART:20241027T010000
END:STANDARD
END:VTIMEZONE
BEGIN:VEVENT
DTSTART;TZID=Europe/Paris:20230309T200000
DTEND;TZID=Europe/Paris:20230309T220000
DTSTAMP:20260421T130038
CREATED:20230227T134111Z
LAST-MODIFIED:20230227T134111Z
UID:671-1678392000-1678399200@lavoltegaillarde.fr
SUMMARY:Répétition Troupe
DESCRIPTION:
URL:https://lavoltegaillarde.fr/event/repetition-troupe/
LOCATION:Nantes
END:VEVENT
BEGIN:VEVENT
DTSTART;TZID=Europe/Paris:20230316T200000
DTEND;TZID=Europe/Paris:20230316T220000
DTSTAMP:20260421T130038
CREATED:20230227T134210Z
LAST-MODIFIED:20230227T134332Z
UID:674-1678996800-1679004000@lavoltegaillarde.fr
SUMMARY:Répétition troupe [Spécial Biot]
DESCRIPTION:
URL:https://lavoltegaillarde.fr/event/repetition-troupe-2/
LOCATION:Nantes
END:VEVENT
BEGIN:VEVENT
DTSTART;TZID=Europe/Paris:20230323T200000
DTEND;TZID=Europe/Paris:20230323T220000
DTSTAMP:20260421T130038
CREATED:20230227T134239Z
LAST-MODIFIED:20230227T134247Z
UID:676-1679601600-1679608800@lavoltegaillarde.fr
SUMMARY:Répétition troupe
DESCRIPTION:
URL:https://lavoltegaillarde.fr/event/repetition-troupe-3/
LOCATION:Nantes
END:VEVENT
BEGIN:VEVENT
DTSTART;TZID=Europe/Paris:20230331T183000
DTEND;TZID=Europe/Paris:20230402T183000
DTSTAMP:20260421T130038
CREATED:20230223T113416Z
LAST-MODIFIED:20230223T113416Z
UID:657-1680287400-1680460200@lavoltegaillarde.fr
SUMMARY:Biot et les templiers
DESCRIPTION:
URL:https://lavoltegaillarde.fr/event/biot-et-les-templiers/
LOCATION:Biot\, Biot\, 06410\, France
END:VEVENT
END:VCALENDAR