BEGIN:VCALENDAR
VERSION:2.0
PRODID:-//La Volte Gaillarde - ECPv6.15.20//NONSGML v1.0//EN
CALSCALE:GREGORIAN
METHOD:PUBLISH
X-WR-CALNAME:La Volte Gaillarde
X-ORIGINAL-URL:https://lavoltegaillarde.fr
X-WR-CALDESC:Évènements pour La Volte Gaillarde
REFRESH-INTERVAL;VALUE=DURATION:PT1H
X-Robots-Tag:noindex
X-PUBLISHED-TTL:PT1H
BEGIN:VTIMEZONE
TZID:Europe/Paris
BEGIN:DAYLIGHT
TZOFFSETFROM:+0100
TZOFFSETTO:+0200
TZNAME:CEST
DTSTART:20220327T010000
END:DAYLIGHT
BEGIN:STANDARD
TZOFFSETFROM:+0200
TZOFFSETTO:+0100
TZNAME:CET
DTSTART:20221030T010000
END:STANDARD
BEGIN:DAYLIGHT
TZOFFSETFROM:+0100
TZOFFSETTO:+0200
TZNAME:CEST
DTSTART:20230326T010000
END:DAYLIGHT
BEGIN:STANDARD
TZOFFSETFROM:+0200
TZOFFSETTO:+0100
TZNAME:CET
DTSTART:20231029T010000
END:STANDARD
BEGIN:DAYLIGHT
TZOFFSETFROM:+0100
TZOFFSETTO:+0200
TZNAME:CEST
DTSTART:20240331T010000
END:DAYLIGHT
BEGIN:STANDARD
TZOFFSETFROM:+0200
TZOFFSETTO:+0100
TZNAME:CET
DTSTART:20241027T010000
END:STANDARD
END:VTIMEZONE
BEGIN:VEVENT
DTSTART;TZID=Europe/Paris:20230331T183000
DTEND;TZID=Europe/Paris:20230402T183000
DTSTAMP:20260421T113144
CREATED:20230223T113416Z
LAST-MODIFIED:20230223T113416Z
UID:657-1680287400-1680460200@lavoltegaillarde.fr
SUMMARY:Biot et les templiers
DESCRIPTION:
URL:https://lavoltegaillarde.fr/event/biot-et-les-templiers/
LOCATION:Biot\, Biot\, 06410\, France
END:VEVENT
BEGIN:VEVENT
DTSTART;TZID=Europe/Paris:20230406T200000
DTEND;TZID=Europe/Paris:20230406T220000
DTSTAMP:20260421T113144
CREATED:20230405T195743Z
LAST-MODIFIED:20230405T195743Z
UID:712-1680811200-1680818400@lavoltegaillarde.fr
SUMMARY:Répétition Troupe
DESCRIPTION:
URL:https://lavoltegaillarde.fr/event/repetition-troupe-4/
LOCATION:Nantes
END:VEVENT
BEGIN:VEVENT
DTSTART;TZID=Europe/Paris:20230420T200000
DTEND;TZID=Europe/Paris:20230420T220000
DTSTAMP:20260421T113144
CREATED:20230405T195831Z
LAST-MODIFIED:20230405T195831Z
UID:714-1682020800-1682028000@lavoltegaillarde.fr
SUMMARY:Répétition Troupe
DESCRIPTION:
URL:https://lavoltegaillarde.fr/event/repetition-troupe-5/
LOCATION:Nantes
END:VEVENT
BEGIN:VEVENT
DTSTART;TZID=Europe/Paris:20230429T100000
DTEND;TZID=Europe/Paris:20230430T180000
DTSTAMP:20260421T113144
CREATED:20230405T195942Z
LAST-MODIFIED:20230405T195942Z
UID:716-1682762400-1682877600@lavoltegaillarde.fr
SUMMARY:Week-end de répétition
DESCRIPTION:
URL:https://lavoltegaillarde.fr/event/week-end-de-repetition/
LOCATION:Nantes
END:VEVENT
END:VCALENDAR