BEGIN:VCALENDAR
VERSION:2.0
PRODID:-//La Volte Gaillarde - ECPv6.15.20//NONSGML v1.0//EN
CALSCALE:GREGORIAN
METHOD:PUBLISH
X-ORIGINAL-URL:https://lavoltegaillarde.fr
X-WR-CALDESC:Évènements pour La Volte Gaillarde
REFRESH-INTERVAL;VALUE=DURATION:PT1H
X-Robots-Tag:noindex
X-PUBLISHED-TTL:PT1H
BEGIN:VTIMEZONE
TZID:Europe/Paris
BEGIN:DAYLIGHT
TZOFFSETFROM:+0100
TZOFFSETTO:+0200
TZNAME:CEST
DTSTART:20220327T010000
END:DAYLIGHT
BEGIN:STANDARD
TZOFFSETFROM:+0200
TZOFFSETTO:+0100
TZNAME:CET
DTSTART:20221030T010000
END:STANDARD
BEGIN:DAYLIGHT
TZOFFSETFROM:+0100
TZOFFSETTO:+0200
TZNAME:CEST
DTSTART:20230326T010000
END:DAYLIGHT
BEGIN:STANDARD
TZOFFSETFROM:+0200
TZOFFSETTO:+0100
TZNAME:CET
DTSTART:20231029T010000
END:STANDARD
BEGIN:DAYLIGHT
TZOFFSETFROM:+0100
TZOFFSETTO:+0200
TZNAME:CEST
DTSTART:20240331T010000
END:DAYLIGHT
BEGIN:STANDARD
TZOFFSETFROM:+0200
TZOFFSETTO:+0100
TZNAME:CET
DTSTART:20241027T010000
END:STANDARD
END:VTIMEZONE
BEGIN:VEVENT
DTSTART;TZID=Europe/Paris:20230504T200000
DTEND;TZID=Europe/Paris:20230504T220000
DTSTAMP:20260421T095508
CREATED:20230314T113029Z
LAST-MODIFIED:20230314T113134Z
UID:688-1683230400-1683237600@lavoltegaillarde.fr
SUMMARY:Assemblée Générale de la Volte Gaillarde
DESCRIPTION:
URL:https://lavoltegaillarde.fr/event/assemblee-generale-de-la-volte-gaillarde/
LOCATION:Nantes
END:VEVENT
BEGIN:VEVENT
DTSTART;TZID=Europe/Paris:20230518T080000
DTEND;TZID=Europe/Paris:20230520T180000
DTSTAMP:20260421T095508
CREATED:20230223T114140Z
LAST-MODIFIED:20230223T114140Z
UID:660-1684396800-1684605600@lavoltegaillarde.fr
SUMMARY:Les nouvelles fêtes Jeanne d'Arc\, Rouen
DESCRIPTION:
URL:https://lavoltegaillarde.fr/event/les-nouvelles-fetes-jeanne-darc-rouen/
LOCATION:Rouen\, Rouen\, 76100\, France
END:VEVENT
BEGIN:VEVENT
DTSTART;TZID=Europe/Paris:20230525T200000
DTEND;TZID=Europe/Paris:20230525T220000
DTSTAMP:20260421T095508
CREATED:20230524T192724Z
LAST-MODIFIED:20230524T192724Z
UID:793-1685044800-1685052000@lavoltegaillarde.fr
SUMMARY:Répétition Troupe
DESCRIPTION:
URL:https://lavoltegaillarde.fr/event/repetition-troupe-6/
LOCATION:Nantes
END:VEVENT
END:VCALENDAR