BEGIN:VCALENDAR
VERSION:2.0
PRODID:-//La Volte Gaillarde - ECPv6.15.20//NONSGML v1.0//EN
CALSCALE:GREGORIAN
METHOD:PUBLISH
X-WR-CALNAME:La Volte Gaillarde
X-ORIGINAL-URL:https://lavoltegaillarde.fr
X-WR-CALDESC:Évènements pour La Volte Gaillarde
REFRESH-INTERVAL;VALUE=DURATION:PT1H
X-Robots-Tag:noindex
X-PUBLISHED-TTL:PT1H
BEGIN:VTIMEZONE
TZID:Europe/Paris
BEGIN:DAYLIGHT
TZOFFSETFROM:+0100
TZOFFSETTO:+0200
TZNAME:CEST
DTSTART:20230326T010000
END:DAYLIGHT
BEGIN:STANDARD
TZOFFSETFROM:+0200
TZOFFSETTO:+0100
TZNAME:CET
DTSTART:20231029T010000
END:STANDARD
BEGIN:DAYLIGHT
TZOFFSETFROM:+0100
TZOFFSETTO:+0200
TZNAME:CEST
DTSTART:20240331T010000
END:DAYLIGHT
BEGIN:STANDARD
TZOFFSETFROM:+0200
TZOFFSETTO:+0100
TZNAME:CET
DTSTART:20241027T010000
END:STANDARD
BEGIN:DAYLIGHT
TZOFFSETFROM:+0100
TZOFFSETTO:+0200
TZNAME:CEST
DTSTART:20250330T010000
END:DAYLIGHT
BEGIN:STANDARD
TZOFFSETFROM:+0200
TZOFFSETTO:+0100
TZNAME:CET
DTSTART:20251026T010000
END:STANDARD
END:VTIMEZONE
BEGIN:VEVENT
DTSTART;TZID=Europe/Paris:20240420T100000
DTEND;TZID=Europe/Paris:20240420T170000
DTSTAMP:20260420T150759
CREATED:20240221T143254Z
LAST-MODIFIED:20240221T143254Z
UID:1037-1713607200-1713632400@lavoltegaillarde.fr
SUMMARY:Assemblée générale
DESCRIPTION:
URL:https://lavoltegaillarde.fr/event/assemblee-generale/
LOCATION:Nantes
END:VEVENT
BEGIN:VEVENT
DTSTART;TZID=Europe/Paris:20240420T100000
DTEND;TZID=Europe/Paris:20240420T170000
DTSTAMP:20260420T150759
CREATED:20240318T143623Z
LAST-MODIFIED:20240318T143623Z
UID:1144-1713607200-1713632400@lavoltegaillarde.fr
SUMMARY:Assemblée Générale
DESCRIPTION:
URL:https://lavoltegaillarde.fr/event/assemblee-generale-2/
LOCATION:Vertou
END:VEVENT
END:VCALENDAR