BEGIN:VCALENDAR
VERSION:2.0
PRODID:-//La Volte Gaillarde - ECPv6.15.20//NONSGML v1.0//EN
CALSCALE:GREGORIAN
METHOD:PUBLISH
X-ORIGINAL-URL:https://lavoltegaillarde.fr
X-WR-CALDESC:Évènements pour La Volte Gaillarde
REFRESH-INTERVAL;VALUE=DURATION:PT1H
X-Robots-Tag:noindex
X-PUBLISHED-TTL:PT1H
BEGIN:VTIMEZONE
TZID:Europe/Paris
BEGIN:DAYLIGHT
TZOFFSETFROM:+0100
TZOFFSETTO:+0200
TZNAME:CEST
DTSTART:20230326T010000
END:DAYLIGHT
BEGIN:STANDARD
TZOFFSETFROM:+0200
TZOFFSETTO:+0100
TZNAME:CET
DTSTART:20231029T010000
END:STANDARD
BEGIN:DAYLIGHT
TZOFFSETFROM:+0100
TZOFFSETTO:+0200
TZNAME:CEST
DTSTART:20240331T010000
END:DAYLIGHT
BEGIN:STANDARD
TZOFFSETFROM:+0200
TZOFFSETTO:+0100
TZNAME:CET
DTSTART:20241027T010000
END:STANDARD
BEGIN:DAYLIGHT
TZOFFSETFROM:+0100
TZOFFSETTO:+0200
TZNAME:CEST
DTSTART:20250330T010000
END:DAYLIGHT
BEGIN:STANDARD
TZOFFSETFROM:+0200
TZOFFSETTO:+0100
TZNAME:CET
DTSTART:20251026T010000
END:STANDARD
END:VTIMEZONE
BEGIN:VEVENT
DTSTART;TZID=Europe/Paris:20240720T080000
DTEND;TZID=Europe/Paris:20240721T170000
DTSTAMP:20260420T102353
CREATED:20240221T143525Z
LAST-MODIFIED:20240221T144017Z
UID:1044-1721462400-1721581200@lavoltegaillarde.fr
SUMMARY:Fête médiévale de Clisson
DESCRIPTION:
URL:https://lavoltegaillarde.fr/event/fete-medievale-de-clisson/
LOCATION:Clisson
END:VEVENT
BEGIN:VEVENT
DTSTART;TZID=Europe/Paris:20240727T080000
DTEND;TZID=Europe/Paris:20240728T170000
DTSTAMP:20260420T102353
CREATED:20240221T143607Z
LAST-MODIFIED:20240221T144009Z
UID:1047-1722067200-1722186000@lavoltegaillarde.fr
SUMMARY:Fête Médiévale d'Hennebont
DESCRIPTION:
URL:https://lavoltegaillarde.fr/event/fete-medievale-dhennebont/
LOCATION:Hennebont
END:VEVENT
END:VCALENDAR